BEGIN:VCALENDAR
VERSION:2.0
PRODID:-//LinksBoven - ECPv6.15.17.1//NONSGML v1.0//EN
CALSCALE:GREGORIAN
METHOD:PUBLISH
X-WR-CALNAME:LinksBoven
X-ORIGINAL-URL:https://linksboven.org
X-WR-CALDESC:Evenementen voor LinksBoven
REFRESH-INTERVAL;VALUE=DURATION:PT1H
X-Robots-Tag:noindex
X-PUBLISHED-TTL:PT1H
BEGIN:VTIMEZONE
TZID:Europe/Paris
BEGIN:DAYLIGHT
TZOFFSETFROM:+0100
TZOFFSETTO:+0200
TZNAME:CEST
DTSTART:20250330T010000
END:DAYLIGHT
BEGIN:STANDARD
TZOFFSETFROM:+0200
TZOFFSETTO:+0100
TZNAME:CET
DTSTART:20251026T010000
END:STANDARD
BEGIN:DAYLIGHT
TZOFFSETFROM:+0100
TZOFFSETTO:+0200
TZNAME:CEST
DTSTART:20260329T010000
END:DAYLIGHT
BEGIN:STANDARD
TZOFFSETFROM:+0200
TZOFFSETTO:+0100
TZNAME:CET
DTSTART:20261025T010000
END:STANDARD
BEGIN:DAYLIGHT
TZOFFSETFROM:+0100
TZOFFSETTO:+0200
TZNAME:CEST
DTSTART:20270328T010000
END:DAYLIGHT
BEGIN:STANDARD
TZOFFSETFROM:+0200
TZOFFSETTO:+0100
TZNAME:CET
DTSTART:20271031T010000
END:STANDARD
END:VTIMEZONE
BEGIN:VTIMEZONE
TZID:UTC
BEGIN:STANDARD
TZOFFSETFROM:+0000
TZOFFSETTO:+0000
TZNAME:UTC
DTSTART:20250101T000000
END:STANDARD
END:VTIMEZONE
BEGIN:VEVENT
DTSTART;TZID=Europe/Paris:20260222T110000
DTEND;TZID=Europe/Paris:20260222T170000
DTSTAMP:20260423T090629
CREATED:20260219T231803Z
LAST-MODIFIED:20260219T233308Z
UID:1239-1771758000-1771779600@linksboven.org
SUMMARY:Ecosocialisme Dag
DESCRIPTION:⏰ 11:00-17:00\n📍 Moira\, Wolvenstraat 10\, Utrecht \n \nEcosystemen storten in\, werkende mensen trekken aan het kortste eind en de rijken lachen in hun vuistje. De huidige kapitalistische economie is onhoudbaar – mensen snakken naar een alternatief. Tijd voor een democratische\, groene en sociale economie! \nDeze zomer gaan de Partij van de Arbeid en GroenLinks definitief op in één nieuwe partij – mét een nieuw beginselprogramma. Binnenkort mogen de leden van GroenLinks-PvdA de nieuwe beginselen vaststellen. Maar\, zoals journalist Coen van de Ven afgelopen juni al schreef in De Groene Amsterdammer: “Zijn we straks eco-socialisten of sociaal-democraten? Niet alles kan\, er zal gekozen moeten worden.” Dit is dus hét moment om de discussie over de ideologische koers van de nieuwe partij te voeren\, en ecosocialisme bovenaan de agenda te zetten. \nDaarom organiseren we op zondag 22 februari een Ecosocialisme Dag bij Moira in Utrecht. Tijdens deze dag gaan we dieper in op de vraag: hoe ziet een nieuw\, democratisch\, sociaal en groen economisch systeem eruit? \nProgramma\n\nWat is ecosocialisme? Met campagnestrateeg Jelle de Graaf \nHoe ziet een alternatieve economie eruit? Met economen Shinta Oosterwaal\, Tim Christiaens en Najah Aouaki\nEcosocialisme in de praktijk. Met Elisabeth IJmker (raadslid GroenLinks Amsterdam) en Florine Zegers (Commons Network)\nHoe komen we tot een ecosocialistische samenleving? Met Saskia Boumans (directeur De Burcht)\, Lena Hartog (co-producent The Cost of Growth) en Noor IJpma (klimaatactivist)\nKansen voor ecosocialisme voor de fusie van GroenLinks-PvdA. Met Dick Pels (voormalig directeur wetenschappelijk bureau GroenLinks) en Sibren van Hoeven (kandidaat-raadslid PvdA Amsterdam)\n\nAanmelden\n\n\n                \n                        \n                             \n                        \n                        URLDit veld is bedoeld voor validatiedoeleinden en moet niet worden gewijzigd.Mijn naam is:(Vereist)\n                            \n                            \n                                                    \n                                                    Voornaam\n                                                \n                            \n                            \n                                                    \n                                                    Achternaam\n                                                \n                            \n                        E-mailadres(Vereist)\n                            \n                        Ben je erbij op zondag 22 februari?(Vereist)\n			\n					\n					Ja\, ik ben erbij!\n			Ben je al aangemeld bij LinksBoven?(Vereist)\n			\n					\n					Ja\, ik ben al aangemeld\n			\n			\n					\n					Nee\, maar ik ben wel geïnteresseerd\n			\n			\n					\n					Nee\, en dat hoef ik ook (nog) niet\n			Is er iets wat wij kunnen doen om dit evenement voor jou toegankelijker te maken (denk aan overprikkeling\, allergieën\, rolstoeltoegankelijkheid)\, laat het dan vooral hieronder weten!
URL:https://linksboven.org/event/ecosocialisme-dag/
LOCATION:Moira\, Wolvenstraat 10\, Utrecht\, 3512 CE\, Netherlands
CATEGORIES:themadagen
ATTACH;FMTTYPE=image/png:https://linksboven.org/wp-content/uploads/2026/02/zoekt-11.png
ORGANIZER;CN="LinksBoven":MAILTO:contact@linksboven.org
END:VEVENT
BEGIN:VEVENT
DTSTART;TZID=UTC:20260501T133000
DTEND;TZID=UTC:20260501T190000
DTSTAMP:20260423T090629
CREATED:20260420T222138Z
LAST-MODIFIED:20260420T222245Z
UID:1437-1777642200-1777662000@linksboven.org
SUMMARY:Dag van de Arbeid demonstratie
DESCRIPTION:Ga mee naar de Dag van de Arbeid op 1 mei \n1 mei is als Dag Van de Arbeid een belangrijke dag voor een ecosocialistische beweging als LinksBoven. Op 1 mei staan we stil bij het feit dat veilige en eerlijke arbeidsvoorwaarden én rechtvaardige sociale voorzieningen nooit zonder strijd tot stand zouden zijn gekomen\, en net zo goed zonder strijd weer verloren zullen gaan. Dit jaar organiseert vakbond FNV een grote demonstratie tegen de verdere uitkleding van sociaal beleid\, zoals de snoeiharde bezuinigingen op uitkeringen en de zorg\, en tegen een regeerakkoord dat de kloof tussen arm en rijk alleen nog maar verder laat groeien. De mars begint vanaf 13:30 op het Museumplein in Amsterdam en vanaf 16:00 is er een parkprogramma in het Martin Luther King Park. LinksBoven is uiteraard van de partij\, stuur een mail naar contact@linksboven.org als je aan wil sluiten!
URL:https://linksboven.org/event/dag-van-de-arbeid-demonstratie/
END:VEVENT
BEGIN:VEVENT
DTSTART;TZID=UTC:20260515T080000
DTEND;TZID=UTC:20260517T170000
DTSTAMP:20260423T090629
CREATED:20260420T222326Z
LAST-MODIFIED:20260420T222326Z
UID:1440-1778832000-1779037200@linksboven.org
SUMMARY:International Ecosocialist Encounters
DESCRIPTION:Ga mee naar de International Ecosocialist Encounters in Brussel \nDe International Ecosocialist Encounters is de jaarlijkse conferentie waar activisten en denkers uit verschillende landen samenkomen om te leren\, strategieën uit te wisselen en met elkaar te verbinden. Er zijn sessies over de vakbond\, arbeidsmigratie\, antimilitarisme\, geopolitiek\, groen kolonialisme\, fossiel fascisme en nog veel meer! Sessies zijn in het Engels\, Spaans of Frans. Het hele programma vind je hier\, en je kan je aanmelden via deze link. Als je mee wilt met de LinksBoven-delegatie\, stuur dan even een mail naar contact@linksboven.org.
URL:https://linksboven.org/event/international-ecosocialist-encounters/
END:VEVENT
BEGIN:VEVENT
DTSTART;VALUE=DATE:20260531
DTEND;VALUE=DATE:20260601
DTSTAMP:20260423T090629
CREATED:20260330T125811Z
LAST-MODIFIED:20260420T221959Z
UID:1408-1780185600-1780271999@linksboven.org
SUMMARY:LinksBoven Communitydag
DESCRIPTION:Kom 31 mei naar de Communitydag! \n📆 Zondag 31 mei\n⏰ 13:00-17:30\n📍 LE:EN\, Heuveloord 140\, Utrecht \nIn een imperialistische en soms moedeloos stemmende wereld is het goed om je linkse kameraden te blijven opzoeken. En waar kun je dat beter doen dan op de LinksBoven Communitydag! De Communitydag is hét moment om als beweging bij elkaar te komen\, belangrijke thema’s te bespreken én gelijkgestemden te ontmoeten. \nOp de komende editie op zondag 31 mei blikken we natuurlijk ook vooruit op het oprichtingscongres van PRO (Progressief Nederland)\, waar we als LinksBoven zeker van ons zullen laten horen. Deze Communitydag vindt plaats vanaf 13:00 bij LE:EN (Heuveloord 140) in Utrecht. Houd de website in de gaten voor details over sprekers en thema’s\, en meld je vast aan! \n[IK MELD ME AAN] \nIedereen is welkom! Je hoeft dus (nog) niet aangesloten te zijn bij LinksBoven of lid te zijn van GroenLinks/PvdA. Nodig dus als je like-minded vrienden uit!
URL:https://linksboven.org/event/communitydag/
END:VEVENT
BEGIN:VEVENT
DTSTART;TZID=UTC:20260613T123000
DTEND;TZID=UTC:20260613T200000
DTSTAMP:20260423T090629
CREATED:20260420T222544Z
LAST-MODIFIED:20260420T222544Z
UID:1442-1781353800-1781380800@linksboven.org
SUMMARY:Oprichtingscongres PRO
DESCRIPTION:Ga met LinksBoven naar het oprichtingscongres van PRO \nOp zaterdag 13 juni is het officiële oprichtingscongres van PRO (Progressief Nederland) in de Brabanthallen in Den Bosch. LinksBoven is er bij en zal zeker van zich laten horen! Doe je mee? Hou deze pagina in de gaten\, binnenkort volgt meer informatie. \nZorg dat je je aanmeldt voor het congres via de website van GroenLinks-PvdA.
URL:https://linksboven.org/event/oprichtingscongres-pro/
END:VEVENT
END:VCALENDAR